BEGIN:VCALENDAR
VERSION:2.0
PRODID:-//Squarespace Inc/Squarespace 6//v6//EN
BEGIN:VEVENT
UID:5876e3c63e00be4f63b87879@squarespace.com
DTSTAMP:20170112T020306Z
DTSTART:20170116T093000Z
DTEND:20170116T103000Z
SUMMARY:Pre-Season Training Commences
END:VEVENT
END:VCALENDAR
