BEGIN:VCALENDAR
VERSION:2.0
PRODID:-//Squarespace Inc/Squarespace 6//v6//EN
BEGIN:VEVENT
UID:5537bad0e4b028fed31aa51b@squarespace.com
DTSTAMP:20150422T151848Z
DTSTART:20150424T163000Z
DTEND:20150425T113000Z
SUMMARY:ANZAC Day Match
END:VEVENT
END:VCALENDAR
