BEGIN:VCALENDAR
VERSION:2.0
PRODID:-//Squarespace Inc/Squarespace 6//v6//EN
BEGIN:VEVENT
UID:52cd648fe4b049a573f0aaad@squarespace.com
DTSTAMP:20140108T144613Z
DTSTART:20140212T094500Z
DTEND:20140212T110000Z
SUMMARY:Pre-season Training - Session 9
GEO:-31.999653;115.75567
LOCATION:Corner Broome and Jarrad St\, Cottesloe Oval\, Cottesloe WA
END:VEVENT
END:VCALENDAR
