BEGIN:VCALENDAR
VERSION:2.0
PRODID:-//Squarespace Inc/Squarespace 6//v6//EN
BEGIN:VEVENT
UID:52cd645be4b003aa586e6ff4@squarespace.com
DTSTAMP:20140108T144516Z
DTSTART:20140210T094500Z
DTEND:20140210T110000Z
SUMMARY:Pre-season Training - Session 8
GEO:-31.999653;115.75567
LOCATION:Corner of Broome and Jarrad St\, Cottesloe Oval\, Cottesloe WA
END:VEVENT
END:VCALENDAR
