BEGIN:VCALENDAR
VERSION:2.0
PRODID:-//Squarespace Inc/Squarespace 6//v6//EN
BEGIN:VEVENT
UID:52cd6415e4b0f11e11c0bbba@squarespace.com
DTSTAMP:20140108T144412Z
DTSTART:20140205T094500Z
DTEND:20140205T110000Z
SUMMARY:Pre-season Training - Session 7
GEO:-31.999653;115.75567
LOCATION:Corner of Broome and Jarrad St\, Cottesloe Oval\, Cottesloe\, WA
END:VEVENT
END:VCALENDAR
