BEGIN:VCALENDAR
VERSION:2.0
PRODID:-//Squarespace Inc/Squarespace 6//v6//EN
BEGIN:VEVENT
UID:52cd63bae4b0efb3ef06fa36@squarespace.com
DTSTAMP:20140108T144312Z
DTSTART:20140203T094500Z
DTEND:20140203T110000Z
SUMMARY:Pre-season Training - Session 6
GEO:-31.999653;115.75567
LOCATION:Corner of Broome and Jarrad St\, Cottesloe Oval\, Cottesloe\, WA
END:VEVENT
END:VCALENDAR
