BEGIN:VCALENDAR
VERSION:2.0
PRODID:-//Squarespace Inc/Squarespace 6//v6//EN
BEGIN:VEVENT
UID:52c4feb8e4b0a01343ecf436@squarespace.com
DTSTAMP:20140108T144147Z
DTSTART:20140129T093000Z
DTEND:20140129T103000Z
SUMMARY:Pre-season Training - Session 5
GEO:-31.999653;115.75567
LOCATION:Corner of Broome and Jarrad St\, Cottesloe Oval\, Cottesloe\, WA
END:VEVENT
END:VCALENDAR
