BEGIN:VCALENDAR
VERSION:2.0
PRODID:-//Squarespace Inc/Squarespace 6//v6//EN
BEGIN:VEVENT
UID:52c4fe68e4b02812efcbfe4d@squarespace.com
DTSTAMP:20140121T152243Z
DTSTART:20140127T093000Z
DTEND:20140127T103000Z
SUMMARY:No Training - Public Holiday
GEO:-31.999653;115.75567
LOCATION:Corner of Broome and Jarrad St\, Cottesloe Oval\, Cottesloe\, WA
END:VEVENT
END:VCALENDAR
