BEGIN:VCALENDAR
VERSION:2.0
PRODID:-//Squarespace Inc/Squarespace 6//v6//EN
BEGIN:VEVENT
UID:52c4fdcce4b077a7b032188f@squarespace.com
DTSTAMP:20140102T055114Z
DTSTART:20140122T093000Z
DTEND:20140122T103000Z
SUMMARY:Pre-season Training - Session 3
GEO:-31.999653;115.75567
LOCATION:Corner of Broome and Jarrad St\, Cottesloe Oval\, Cottesloe\, WA
END:VEVENT
END:VCALENDAR
