BEGIN:VCALENDAR
VERSION:2.0
PRODID:-//Squarespace Inc/Squarespace 6//v6//EN
BEGIN:VEVENT
UID:52c3d511e4b014a13e4e2878@squarespace.com
DTSTAMP:20140101T084815Z
DTSTART:20140120T093000Z
DTEND:20140120T103000Z
SUMMARY:Pre-season Training - Session 2
GEO:-31.999653;115.75567
LOCATION:Corner of Broome and Jarrad St\, Cottesloe Oval\, Cottesloe\, WA
END:VEVENT
END:VCALENDAR
