BEGIN:VCALENDAR
VERSION:2.0
PRODID:-//Squarespace Inc/Squarespace 6//v6//EN
BEGIN:VEVENT
UID:52cd65e2e4b0b0834aedb1a4@squarespace.com
DTSTAMP:20140108T145507Z
DTSTART:20140226T094500Z
DTEND:20140226T110000Z
SUMMARY:Pre-season Training - Session 13
GEO:-31.999653;115.75567
LOCATION:Corner of Broome and Jarrad St\, Cottesloe Oval\, Cottesloe\, WA
END:VEVENT
END:VCALENDAR
