BEGIN:VCALENDAR
VERSION:2.0
PRODID:-//Squarespace Inc/Squarespace 6//v6//EN
BEGIN:VEVENT
UID:52cd6611e4b00bc0dba090c6@squarespace.com
DTSTAMP:20140108T145209Z
DTSTART:20140224T094500Z
DTEND:20140224T110000Z
SUMMARY:Pre-season Training - Session 12
GEO:-31.999653;115.75567
LOCATION:Corner Broome and Jarrad St\, Cottesloe Oval\, Cottesloe\, WA
END:VEVENT
END:VCALENDAR
