BEGIN:VCALENDAR
VERSION:2.0
PRODID:-//Squarespace Inc/Squarespace 6//v6//EN
BEGIN:VEVENT
UID:52cd657ce4b065c5e52b8fff@squarespace.com
DTSTAMP:20140108T145006Z
DTSTART:20140219T094500Z
DTEND:20140219T110000Z
SUMMARY:Pre-season Training - Session 11
GEO:-31.999653;115.75567
LOCATION:Corner Broome and Jarrad St\, Cottesloe Oval\, Cottesloe\, WA
END:VEVENT
END:VCALENDAR
