BEGIN:VCALENDAR
VERSION:2.0
PRODID:-//Squarespace Inc/Squarespace 6//v6//EN
BEGIN:VEVENT
UID:52cd6502e4b0c0f4a9307773@squarespace.com
DTSTAMP:20140108T144844Z
DTSTART:20140217T094500Z
DTEND:20140217T110000Z
SUMMARY:Pre-season Training - Session 10
GEO:-31.999653;115.75567
LOCATION:Corner of Broome and Jarrad St\, Cottesloe Oval\, Cottesloe\, WA
END:VEVENT
END:VCALENDAR
